BEGIN:VCALENDAR
VERSION:2.0
PRODID:-//AB Tecno - Automation Accessories | Tecnologia e innovazione - ECPv6.15.17//NONSGML v1.0//EN
CALSCALE:GREGORIAN
METHOD:PUBLISH
X-ORIGINAL-URL:https://www.abtecno.com
X-WR-CALDESC:Eventi per AB Tecno - Automation Accessories | Tecnologia e innovazione
REFRESH-INTERVAL;VALUE=DURATION:PT1H
X-Robots-Tag:noindex
X-PUBLISHED-TTL:PT1H
BEGIN:VTIMEZONE
TZID:Europe/Rome
BEGIN:DAYLIGHT
TZOFFSETFROM:+0100
TZOFFSETTO:+0200
TZNAME:CEST
DTSTART:20220327T010000
END:DAYLIGHT
BEGIN:STANDARD
TZOFFSETFROM:+0200
TZOFFSETTO:+0100
TZNAME:CET
DTSTART:20221030T010000
END:STANDARD
BEGIN:DAYLIGHT
TZOFFSETFROM:+0100
TZOFFSETTO:+0200
TZNAME:CEST
DTSTART:20230326T010000
END:DAYLIGHT
BEGIN:STANDARD
TZOFFSETFROM:+0200
TZOFFSETTO:+0100
TZNAME:CET
DTSTART:20231029T010000
END:STANDARD
BEGIN:DAYLIGHT
TZOFFSETFROM:+0100
TZOFFSETTO:+0200
TZNAME:CEST
DTSTART:20240331T010000
END:DAYLIGHT
BEGIN:STANDARD
TZOFFSETFROM:+0200
TZOFFSETTO:+0100
TZNAME:CET
DTSTART:20241027T010000
END:STANDARD
BEGIN:DAYLIGHT
TZOFFSETFROM:+0100
TZOFFSETTO:+0200
TZNAME:CEST
DTSTART:20250330T010000
END:DAYLIGHT
BEGIN:STANDARD
TZOFFSETFROM:+0200
TZOFFSETTO:+0100
TZNAME:CET
DTSTART:20251026T010000
END:STANDARD
END:VTIMEZONE
BEGIN:VEVENT
DTSTART;VALUE=DATE:20230316
DTEND;VALUE=DATE:20240425
DTSTAMP:20260420T080542
CREATED:20230323T093332Z
LAST-MODIFIED:20230426T070410Z
UID:602-1678924800-1714003199@www.abtecno.com
SUMMARY:Promozione del ventennale: centrali di comando
DESCRIPTION:[vc_row][vc_column][vc_column_text]Scopri la promozione sulle centrali di comando universali e compatibili valida fino al 24 aprile! \n  \n[/vc_column_text][/vc_column][/vc_row]
URL:https://www.abtecno.com/evento/promozione-centrali-comando/
CATEGORIES:Passati
ATTACH;FMTTYPE=image/jpeg:https://www.abtecno.com/wp-content/uploads/2023/03/promo-centrali-img.jpg
END:VEVENT
BEGIN:VEVENT
DTSTART;VALUE=DATE:20230503
DTEND;VALUE=DATE:20230504
DTSTAMP:20260420T080542
CREATED:20230426T071144Z
LAST-MODIFIED:20250324T160744Z
UID:649-1683072000-1683158399@www.abtecno.com
SUMMARY:Corso online magneti\, 3 maggio
DESCRIPTION:[vc_row][vc_column width=”1/2″][vc_column_text]Il 3 maggio 2023\, dalle ore 16\,30 alle ore 18\,00 \nAb Tecno organizza il corso online \nMAGNETI HQ MAG \nIl relatore sarà il Sales Director di HQ MAG Thomas Bertaux. \n  \nPer partecipare inviare una email contenente nome\, cognome e azienda a: \nmarketing@abtecno.com[/vc_column_text][vc_single_image image=”650″ img_size=”full” alignment=”center”][/vc_column][vc_column width=”1/2″ el_class=”contact_form”]\n\n  \n\n\n\n\n	Compila il seguente form per richiedere maggiori informazioni:\n	 \n\n\n\n\n\n\n \n\n	Richiedi qui maggiori informazioni su un prodotto o un marchio di tuo interesse:\n	 \n	\n	 \n\n\n	\n	 \n\nRisolvi l'operazione: 1+1=? \n \n\n	Confermo di aver preso visione dell'informativa sul trattamento dei dati ai sensi dell'art. 13 del Regolamento (UE) n. 679/2016 (GDPR).\n	 \n\nSi prega di lasciare vuoto questo campo.\n\n \n\n\n\n				[/vc_column][/vc_row]
URL:https://www.abtecno.com/evento/corso-magneti/
CATEGORIES:Eventi,Passati
ATTACH;FMTTYPE=image/jpeg:https://www.abtecno.com/wp-content/uploads/2023/04/hqmag.jpg
END:VEVENT
END:VCALENDAR