BEGIN:VCALENDAR
VERSION:2.0
PRODID:-//AB Tecno - Automation Accessories | Tecnologia e innovazione - ECPv6.15.17//NONSGML v1.0//EN
CALSCALE:GREGORIAN
METHOD:PUBLISH
X-WR-CALNAME:AB Tecno - Automation Accessories | Tecnologia e innovazione
X-ORIGINAL-URL:https://www.abtecno.com
X-WR-CALDESC:Eventi per AB Tecno - Automation Accessories | Tecnologia e innovazione
REFRESH-INTERVAL;VALUE=DURATION:PT1H
X-Robots-Tag:noindex
X-PUBLISHED-TTL:PT1H
BEGIN:VTIMEZONE
TZID:Europe/Rome
BEGIN:DAYLIGHT
TZOFFSETFROM:+0100
TZOFFSETTO:+0200
TZNAME:CEST
DTSTART:20210328T010000
END:DAYLIGHT
BEGIN:STANDARD
TZOFFSETFROM:+0200
TZOFFSETTO:+0100
TZNAME:CET
DTSTART:20211031T010000
END:STANDARD
BEGIN:DAYLIGHT
TZOFFSETFROM:+0100
TZOFFSETTO:+0200
TZNAME:CEST
DTSTART:20220327T010000
END:DAYLIGHT
BEGIN:STANDARD
TZOFFSETFROM:+0200
TZOFFSETTO:+0100
TZNAME:CET
DTSTART:20221030T010000
END:STANDARD
BEGIN:DAYLIGHT
TZOFFSETFROM:+0100
TZOFFSETTO:+0200
TZNAME:CEST
DTSTART:20230326T010000
END:DAYLIGHT
BEGIN:STANDARD
TZOFFSETFROM:+0200
TZOFFSETTO:+0100
TZNAME:CET
DTSTART:20231029T010000
END:STANDARD
END:VTIMEZONE
BEGIN:VEVENT
DTSTART;TZID=Europe/Rome:20220302T160000
DTEND;TZID=Europe/Rome:20220302T180000
DTSTAMP:20260420T182753
CREATED:20220211T095208Z
LAST-MODIFIED:20220512T100458Z
UID:337-1646236800-1646244000@www.abtecno.com
SUMMARY:Corso: webinar XPR - linea OFFLINE
DESCRIPTION:[vc_row][vc_column width=”1/2″][vc_column_text]Corso: webinar XPR – linea OFF-LINE: mercoledì 2 marzo 2022 – h 16:00-18:00 \nIscriviti! Clicca QUI e compila il modulo.[/vc_column_text][vc_single_image image=”332″ img_size=”full” alignment=”center”][/vc_column][vc_column width=”1/2″ el_class=”contact_form”]\n\n  \n\n\n\n\n	Compila il seguente form per richiedere maggiori informazioni:\n	 \n\n\n\n\n\n\n \n\n	Richiedi qui maggiori informazioni su un prodotto o un marchio di tuo interesse:\n	 \n	\n	 \n\n\n	\n	 \n\nRisolvi l'operazione: 1+1=? \n \n\n	Confermo di aver preso visione dell'informativa sul trattamento dei dati ai sensi dell'art. 13 del Regolamento (UE) n. 679/2016 (GDPR).\n	 \n\nSi prega di lasciare vuoto questo campo.\n\n \n\n\n\n				[/vc_column][/vc_row]
URL:https://www.abtecno.com/evento/corso-webinar-xpr-linea-offline/
CATEGORIES:Passati
ATTACH;FMTTYPE=image/png:https://www.abtecno.com/wp-content/uploads/2022/02/Imm-EVENTO-CORSI-XPR-LINEA-OFFLINE.png
END:VEVENT
BEGIN:VEVENT
DTSTART;TZID=Europe/Rome:20220309T160000
DTEND;TZID=Europe/Rome:20220309T180000
DTSTAMP:20260420T182753
CREATED:20220211T095523Z
LAST-MODIFIED:20220512T100552Z
UID:339-1646841600-1646848800@www.abtecno.com
SUMMARY:Corso: webinar XPR - linea WEB SERVER
DESCRIPTION:[vc_row][vc_column width=”1/2″][vc_column_text]Corso: webinar XPR – linea WEB SERVER: mercoledì 9 marzo 2022 – h 16:00-18:00 \nIscriviti! Clicca QUI e compila il modulo.[/vc_column_text][vc_single_image image=”331″ img_size=”full” alignment=”center”][/vc_column][vc_column width=”1/2″ el_class=”contact_form”]\n\n  \n\n\n\n\n	Compila il seguente form per richiedere maggiori informazioni:\n	 \n\n\n\n\n\n\n \n\n	Richiedi qui maggiori informazioni su un prodotto o un marchio di tuo interesse:\n	 \n	\n	 \n\n\n	\n	 \n\nRisolvi l'operazione: 1+1=? \n \n\n	Confermo di aver preso visione dell'informativa sul trattamento dei dati ai sensi dell'art. 13 del Regolamento (UE) n. 679/2016 (GDPR).\n	 \n\nSi prega di lasciare vuoto questo campo.\n\n \n\n\n\n				[/vc_column][/vc_row]
URL:https://www.abtecno.com/evento/corso-webinar-xpr-linea-webserver/
CATEGORIES:Passati
ATTACH;FMTTYPE=image/png:https://www.abtecno.com/wp-content/uploads/2022/02/Imm-EVENTO-CORSI-XPR-LINEA-WEB-SERVER.png
END:VEVENT
END:VCALENDAR