BEGIN:VCALENDAR
VERSION:2.0
PRODID:-//AB Tecno - Automation Accessories | Tecnologia e innovazione - ECPv6.15.17//NONSGML v1.0//EN
CALSCALE:GREGORIAN
METHOD:PUBLISH
X-ORIGINAL-URL:https://www.abtecno.com
X-WR-CALDESC:Eventi per AB Tecno - Automation Accessories | Tecnologia e innovazione
REFRESH-INTERVAL;VALUE=DURATION:PT1H
X-Robots-Tag:noindex
X-PUBLISHED-TTL:PT1H
BEGIN:VTIMEZONE
TZID:Europe/Rome
BEGIN:DAYLIGHT
TZOFFSETFROM:+0100
TZOFFSETTO:+0200
TZNAME:CEST
DTSTART:20210328T010000
END:DAYLIGHT
BEGIN:STANDARD
TZOFFSETFROM:+0200
TZOFFSETTO:+0100
TZNAME:CET
DTSTART:20211031T010000
END:STANDARD
BEGIN:DAYLIGHT
TZOFFSETFROM:+0100
TZOFFSETTO:+0200
TZNAME:CEST
DTSTART:20220327T010000
END:DAYLIGHT
BEGIN:STANDARD
TZOFFSETFROM:+0200
TZOFFSETTO:+0100
TZNAME:CET
DTSTART:20221030T010000
END:STANDARD
BEGIN:DAYLIGHT
TZOFFSETFROM:+0100
TZOFFSETTO:+0200
TZNAME:CEST
DTSTART:20230326T010000
END:DAYLIGHT
BEGIN:STANDARD
TZOFFSETFROM:+0200
TZOFFSETTO:+0100
TZNAME:CET
DTSTART:20231029T010000
END:STANDARD
END:VTIMEZONE
BEGIN:VEVENT
DTSTART;VALUE=DATE:20220216
DTEND;VALUE=DATE:20220217
DTSTAMP:20260420T201629
CREATED:20220211T101948Z
LAST-MODIFIED:20220512T100341Z
UID:341-1644969600-1645055999@www.abtecno.com
SUMMARY:CALENDARIO CORSI ONLINE - XPR
DESCRIPTION:[vc_row][vc_column width=”1/2″][vc_column_text]Tornano i corsi di formazione online gratuiti dedicati ai nostri marchi! \nCominciamo con XPR\, dedicando 3 mercoledì all’approfondimento/conoscenza delle linee ON-LINE\, OFF-LINE e WEB-SERVER. \nEcco il calendario completo: \n\nmercoledì 23/02/2022\, h 16:00-18:00\n       LINEA ON-LINE \nmercoledì 02/03/2022\,  h 16:00-18:00\n       LINEA OFF-LINE\nmercoledì 09/03/2022\, h 16:00-18:00\n       LINEA WEB SERVER\n\nIscriviti! Clicca QUI e compila il modulo.[/vc_column_text][vc_single_image image=”346″ img_size=”full” alignment=”center” onclick=”custom_link” link=”/evento/fiera-sicurezza-2021-milano/”][/vc_column][vc_column width=”1/2″ el_class=”contact_form”]\n\n  \n\n\n\n\n	Compila il seguente form per richiedere maggiori informazioni:\n	 \n\n\n\n\n\n\n \n\n	Richiedi qui maggiori informazioni su un prodotto o un marchio di tuo interesse:\n	 \n	\n	 \n\n\n	\n	 \n\nRisolvi l'operazione: 1+1=? \n \n\n	Confermo di aver preso visione dell'informativa sul trattamento dei dati ai sensi dell'art. 13 del Regolamento (UE) n. 679/2016 (GDPR).\n	 \n\nSi prega di lasciare vuoto questo campo.\n\n \n\n\n\n				[/vc_column][/vc_row]
URL:https://www.abtecno.com/evento/calendario-corsi-online-xpr/
CATEGORIES:Passati
ATTACH;FMTTYPE=image/png:https://www.abtecno.com/wp-content/uploads/2022/02/Imm-NEWS-CORSI-XPR-GENERALE-FEB-MAR-2022-1.png
END:VEVENT
BEGIN:VEVENT
DTSTART;TZID=Europe/Rome:20220223T160000
DTEND;TZID=Europe/Rome:20220223T180000
DTSTAMP:20260420T201629
CREATED:20220211T094227Z
LAST-MODIFIED:20220512T100635Z
UID:330-1645632000-1645639200@www.abtecno.com
SUMMARY:Corso: webinar XPR - linea ONLINE
DESCRIPTION:[vc_row][vc_column width=”1/2″][vc_column_text]Corso: webinar XPR – linea ON-LINE: mercoledì 23 febbraio 2022 – h 16:00-18:00 \nIscriviti! Clicca QUI e compila il modulo.[/vc_column_text][vc_single_image image=”333″ img_size=”full” alignment=”center”][/vc_column][vc_column width=”1/2″ el_class=”contact_form”]\n\n  \n\n\n\n\n	Compila il seguente form per richiedere maggiori informazioni:\n	 \n\n\n\n\n\n\n \n\n	Richiedi qui maggiori informazioni su un prodotto o un marchio di tuo interesse:\n	 \n	\n	 \n\n\n	\n	 \n\nRisolvi l'operazione: 1+1=? \n \n\n	Confermo di aver preso visione dell'informativa sul trattamento dei dati ai sensi dell'art. 13 del Regolamento (UE) n. 679/2016 (GDPR).\n	 \n\nSi prega di lasciare vuoto questo campo.\n\n \n\n\n\n				[/vc_column][/vc_row]
URL:https://www.abtecno.com/evento/corso-xpr-linea-online/
CATEGORIES:Passati
ATTACH;FMTTYPE=image/png:https://www.abtecno.com/wp-content/uploads/2022/02/Imm-EVENTO-CORSI-XPR-LINEA-ONLINE.png
END:VEVENT
END:VCALENDAR