BEGIN:VCALENDAR
VERSION:2.0
PRODID:-//AB Tecno - Automation Accessories | Tecnologia e innovazione - ECPv6.15.17//NONSGML v1.0//EN
CALSCALE:GREGORIAN
METHOD:PUBLISH
X-WR-CALNAME:AB Tecno - Automation Accessories | Tecnologia e innovazione
X-ORIGINAL-URL:https://www.abtecno.com
X-WR-CALDESC:Eventi per AB Tecno - Automation Accessories | Tecnologia e innovazione
REFRESH-INTERVAL;VALUE=DURATION:PT1H
X-Robots-Tag:noindex
X-PUBLISHED-TTL:PT1H
BEGIN:VTIMEZONE
TZID:Europe/Rome
BEGIN:DAYLIGHT
TZOFFSETFROM:+0100
TZOFFSETTO:+0200
TZNAME:CEST
DTSTART:20200329T010000
END:DAYLIGHT
BEGIN:STANDARD
TZOFFSETFROM:+0200
TZOFFSETTO:+0100
TZNAME:CET
DTSTART:20201025T010000
END:STANDARD
BEGIN:DAYLIGHT
TZOFFSETFROM:+0100
TZOFFSETTO:+0200
TZNAME:CEST
DTSTART:20210328T010000
END:DAYLIGHT
BEGIN:STANDARD
TZOFFSETFROM:+0200
TZOFFSETTO:+0100
TZNAME:CET
DTSTART:20211031T010000
END:STANDARD
BEGIN:DAYLIGHT
TZOFFSETFROM:+0100
TZOFFSETTO:+0200
TZNAME:CEST
DTSTART:20220327T010000
END:DAYLIGHT
BEGIN:STANDARD
TZOFFSETFROM:+0200
TZOFFSETTO:+0100
TZNAME:CET
DTSTART:20221030T010000
END:STANDARD
END:VTIMEZONE
BEGIN:VEVENT
DTSTART;VALUE=DATE:20211118
DTEND;VALUE=DATE:20211119
DTSTAMP:20260421T010515
CREATED:20211118T110007Z
LAST-MODIFIED:20220512T095611Z
UID:210-1637193600-1637279999@www.abtecno.com
SUMMARY:Bentornate FIERE!
DESCRIPTION:[vc_row][vc_column width=”1/2″][vc_column_text]Dopo un anno di chiusure\, fatica e ritmi diversi\, siamo felici di poter cominciare a respirare un’aria di “quasi” normalità! \nGli appuntamenti non mancano e\, come per ogni edizione\, rinnoviamo la nostra presenza alle due Fiere più importanti del nostro settore: Fiera Sicurezza 2021 (22-24 novembre\, Milano) e R+T 2022 (21-25 febbraio\, Stoccarda).[/vc_column_text][vc_single_image image=”242″ img_size=”full” alignment=”center” onclick=”custom_link” link=”/evento/fiera-sicurezza-2021-milano/”][vc_single_image image=”241″ img_size=”full” alignment=”center” onclick=”custom_link” link=”/evento/fiera-rt-2022-stoccarda/”][/vc_column][vc_column width=”1/2″ el_class=”contact_form”]\n\n  \n\n\n\n\n	Compila il seguente form per richiedere maggiori informazioni:\n	 \n\n\n\n\n\n\n \n\n	Richiedi qui maggiori informazioni su un prodotto o un marchio di tuo interesse:\n	 \n	\n	 \n\n\n	\n	 \n\nRisolvi l'operazione: 1+1=? \n \n\n	Confermo di aver preso visione dell'informativa sul trattamento dei dati ai sensi dell'art. 13 del Regolamento (UE) n. 679/2016 (GDPR).\n	 \n\nSi prega di lasciare vuoto questo campo.\n\n \n\n\n\n				[/vc_column][/vc_row]
URL:https://www.abtecno.com/evento/bentornate-fiere/
CATEGORIES:Passati
ATTACH;FMTTYPE=image/jpeg:https://www.abtecno.com/wp-content/uploads/2021/10/evento-fiera-sicurezza-2021.jpg
END:VEVENT
BEGIN:VEVENT
DTSTART;VALUE=DATE:20211122
DTEND;VALUE=DATE:20211125
DTSTAMP:20260421T010515
CREATED:20211117T153857Z
LAST-MODIFIED:20220512T100209Z
UID:115-1637539200-1637798399@www.abtecno.com
SUMMARY:Fiera sicurezza 2021 - Milano
DESCRIPTION:[vc_row][vc_column width=”1/2″][vc_column_text]Fiera sicurezza dal 22 al 24 novembre 2021 – Fiera Milano[/vc_column_text][vc_single_image image=”242″ img_size=”full” alignment=”center”][vc_column_text]AB Tecno ha partecipato a Fiera Sicurezza (22-24 Novembre 2021) anche grazie al contributo a fondo perduto\, con la partecipazione al Bando Progetti di promozione dell’export e per la partecipazione a eventi fieristici – Anno 2021 della Regione Emilia-Romagna. \nIl Bando\, che supporta progetti di partecipazione a fiere di carattere internazionale all’estero o in Italia\, intende favorire la promozione internazionale delle PMI e la diversificazione dei mercati.[/vc_column_text][vc_single_image image=”385″ img_size=”full” alignment=”center”][/vc_column][vc_column width=”1/2″ el_class=”contact_form”]\n\n  \n\n\n\n\n	Compila il seguente form per richiedere maggiori informazioni:\n	 \n\n\n\n\n\n\n \n\n	Richiedi qui maggiori informazioni su un prodotto o un marchio di tuo interesse:\n	 \n	\n	 \n\n\n	\n	 \n\nRisolvi l'operazione: 1+1=? \n \n\n	Confermo di aver preso visione dell'informativa sul trattamento dei dati ai sensi dell'art. 13 del Regolamento (UE) n. 679/2016 (GDPR).\n	 \n\nSi prega di lasciare vuoto questo campo.\n\n \n\n\n\n				[/vc_column][/vc_row]
URL:https://www.abtecno.com/evento/fiera-sicurezza-2021-milano/
CATEGORIES:Passati
ATTACH;FMTTYPE=image/png:https://www.abtecno.com/wp-content/uploads/2021/11/FIERA-SICUREZZA-2021-copertina-news.png
END:VEVENT
END:VCALENDAR